BEGIN:VCALENDAR
VERSION:2.0
PRODID:-//Library Market//iCal Export//EN
BEGIN:VEVENT
SUMMARY:Free Comic Book Day
UID:5102
DTSTAMP:20260421T124100Z
DTSTART:20260502T150000Z
DTEND:20260502T180000Z
LOCATION:Veteran Owned Gaming, 109 Central Shopping Center, Campbellsville
 , KY 42718, United States
ROOM: Free Comic Book Day
DESCRIPTION:It&#039;s almost time to celebrate our annual Free Comic Book 
 Day at Veteran Owned Gaming. Join us Saturday, May 2nd, from 11-2pm for ga
 mes, crafts, and a cosplay contest! There will be comics to take with you
 , comics available for trade, graphic novels available for checkout (bring
  your library card), and there will be cool games to buy. Kids and adults 
 of all ages are welcome to stop by.Cosplay contest will take place at 1:30
 , contestants must be in the store by that time. 1st, 2nd, and 3rd place w
 inners will win gift cards to Etown Comics, Cards, and Collectibles!
URL:https://www.tcplibrary.org/event/free-comic-book-day-5102
END:VEVENT
END:VCALENDAR
