BEGIN:VCALENDAR
VERSION:2.0
PRODID:-//Library Market//iCal Export//EN
BEGIN:VEVENT
SUMMARY:Bookmobile at Green River Ministries
UID:5098
DTSTAMP:20260420T234200Z
DTSTART:20260508T143000Z
DTEND:20260508T153000Z
LOCATION:55 Clem Haskins Blvd, Campbellsville, KY 42718, United States
ROOM: Bookmobile at Green River Ministries
DESCRIPTION:The Bookmobile parks at Green River Ministries Fridays, from 1
 0:30-11:30 AM, for the public to browse books, magazines, and DVDs. 
URL:https://www.tcplibrary.org/event/bookmobile-green-river-ministries-509
 8
END:VEVENT
END:VCALENDAR
