BEGIN:VCALENDAR
VERSION:2.0
PRODID:-//Library Market//iCal Export//EN
BEGIN:VEVENT
SUMMARY:Bookmobile at Crescent Hill Manor
UID:5097
DTSTAMP:20260420T214800Z
DTSTART:20260527T193000Z
DTEND:20260527T203000Z
LOCATION:Crescent Hill Manor, Campbellsville , KY 42718, United States
ROOM: Bookmobile at Crescent Hill Manor
DESCRIPTION:The TCPL Bookmobile will be at Crescent Hill Manor from 3:30-4
 :30 PM for anyone to browse and checkout books. 
URL:https://www.tcplibrary.org/event/bookmobile-crescent-hill-manor-5097
END:VEVENT
END:VCALENDAR
