BEGIN:VCALENDAR
VERSION:2.0
PRODID:-//Library Market//iCal Export//EN
BEGIN:VEVENT
SUMMARY:Bookmobile at David Street
UID:5095
DTSTAMP:20260420T234400Z
DTSTART:20260506T193000Z
DTEND:20260506T203000Z
LOCATION:David Street, Campbellsville, KY 42718, United States
ROOM: Bookmobile at David Street
DESCRIPTION:The TCPL Bookmobile will be at David St. from 3:30-4:30 PM for
  anyone to browse and checkout books. 
URL:https://www.tcplibrary.org/event/bookmobile-david-street-5095
END:VEVENT
END:VCALENDAR
