BEGIN:VCALENDAR
VERSION:2.0
PRODID:-//Library Market//iCal Export//EN
BEGIN:VEVENT
SUMMARY:Bookmobile at Apache Road
UID:5093
DTSTAMP:20260420T234100Z
DTSTART:20260512T193000Z
DTEND:20260512T203000Z
LOCATION:Apache Road, Campbellsville, KY 42718, United States
ROOM: Bookmobile at Apache Road
DESCRIPTION:The Bookmobile will be at Apache Road from 3:30-4:30 PM. Patr
 ons are welcome to use our free Wi-Fi and browse books, audiobooks, and 
 DVDs.
URL:https://www.tcplibrary.org/event/bookmobile-apache-road-5093
END:VEVENT
END:VCALENDAR
