BEGIN:VCALENDAR
VERSION:2.0
PRODID:-//Library Market//iCal Export//EN
BEGIN:VEVENT
SUMMARY:Bookmobile at Anna Court
UID:5092
DTSTAMP:20260420T214900Z
DTSTART:20260519T193000Z
DTEND:20260519T203000Z
LOCATION:Anna Court, Campbellsville, KY 42718, United States
ROOM: Bookmobile at Anna Court
DESCRIPTION:The TCPL Bookmobile will be at Anna Court for anyone to browse
  and checkout books.
URL:https://www.tcplibrary.org/event/bookmobile-anna-court-5092
END:VEVENT
END:VCALENDAR
