BEGIN:VCALENDAR
VERSION:2.0
PRODID:-//Library Market//iCal Export//EN
BEGIN:VEVENT
SUMMARY:Bookmobile at Ravine Way
UID:5090
DTSTAMP:20260420T214800Z
DTSTART:20260518T193000Z
DTEND:20260518T203000Z
LOCATION:Ravine Way, Campbellsville, KY 42718, United States
ROOM: Bookmobile at Ravine Way
DESCRIPTION:The Bookmobile will be at Ravine Way from 3:30-4:30 PM. Patron
 s are welcome to use our free Wi-Fi and browse books, audiobooks, and DVDs
 .
URL:https://www.tcplibrary.org/event/bookmobile-ravine-way-5090
END:VEVENT
END:VCALENDAR
