BEGIN:VCALENDAR
VERSION:2.0
PRODID:-//Library Market//iCal Export//EN
BEGIN:VEVENT
SUMMARY:Saving for Retirement
UID:5084
DTSTAMP:20260420T214800Z
DTSTART:20260520T180000Z
DTEND:20260520T190000Z
LOCATION:725 Martin Luther King Jr Blvd, Campbellsville, KY 42718, United 
 States
ROOM: Saving for Retirement
DESCRIPTION:Whether you&#039;re 10, 20, or 30 years away from retirement, 
 this webinar will discuss a number of ways that you can plan and save for 
 retirement. We’ll discuss:401(k)sIRAsTax AdvantagesRisk ToleranceSetting
  Retirement GoalsWays to attend this session:Online from home: Register he
 re if you plan to attend online.In-person: Sign up below if you plan to at
 tend at TCPL.
URL:https://www.tcplibrary.org/event/saving-retirement-5084
END:VEVENT
END:VCALENDAR
