BEGIN:VCALENDAR
VERSION:2.0
PRODID:-//Library Market//iCal Export//EN
BEGIN:VEVENT
SUMMARY:Teen Hangout at Miller Park Blue Pavilion
UID:5082
DTSTAMP:20260420T195000Z
DTSTART:20260522T200000Z
DTEND:20260522T210000Z
LOCATION:Miller Park Blue Pavilion, 321 Beechwood Dr, Campbellsville, KY 4
 2718, United States
ROOM: Teen Hangout at Miller Park Blue Pavilion
DESCRIPTION:Time to take advantage of the weather and head to Miller Park 
 every Friday in May (except for May 15th). There will be snacks and outdoo
 r games ready to play!
URL:https://www.tcplibrary.org/event/teen-hangout-miller-park-blue-pavilio
 n-5082
END:VEVENT
END:VCALENDAR
