BEGIN:VCALENDAR
VERSION:2.0
PRODID:-//Library Market//iCal Export//EN
BEGIN:VEVENT
SUMMARY:Game On! for Teens
UID:5077
DTSTAMP:20260420T173700Z
DTSTART:20260505T200000Z
DTEND:20260505T210000Z
LOCATION:Miller Park Blue Pavilion, 321 Beechwood Dr, Campbellsville, KY 4
 2718, United States
ROOM: Game On! for Teens
DESCRIPTION:Game On! will venture to Miller Park on Tuesday, May 5th, but 
 then make a joyous return to TCPL in the newly renovated Community Room! J
 oin us on Tuesdays from 4-5pm for snacks, gaming, and fun!
URL:https://www.tcplibrary.org/event/game-teens-5077
END:VEVENT
END:VCALENDAR
