BEGIN:VCALENDAR
VERSION:2.0
PRODID:-//Library Market//iCal Export//EN
BEGIN:VEVENT
SUMMARY:Story Hour
UID:5073
DTSTAMP:20260420T173800Z
DTSTART:20260508T140000Z
DTEND:20260508T150000Z
LOCATION:Kid Spot Purple Playground, 50 Gene Cash Rd, Campbellsville, KY 4
 2718, United States
ROOM: Story Hour
DESCRIPTION:Kids of all ages are welcome to attend Story Hour on Fridays i
 n May to listen to stories, craft, and play together! May 1 and 8: Meet a
 t the Kid Spot Purple PlaygroundMay 15 and every Friday after: Meet at TCP
 L&#039;s new Children&#039;s Room! 
URL:https://www.tcplibrary.org/event/story-hour-honest-and-free-studio-507
 3
END:VEVENT
END:VCALENDAR
