BEGIN:VCALENDAR
VERSION:2.0
PRODID:-//Library Market//iCal Export//EN
BEGIN:VEVENT
SUMMARY:Rhyme Time at Kid Spot Playground
UID:5027
DTSTAMP:20260420T100900Z
DTSTART:20260505T140000Z
DTEND:20260505T150000Z
LOCATION:The Enrichment Collaborative, 406 Hotchkiss St, Campbellsvile, KY
  42718, United States
ROOM: Rhyme Time at Kid Spot Playground
DESCRIPTION:Welcome to a new year! Bring your little ones to Rhyme Time to
  listen to stories, dance around, and play! 5/5: Kid Sp0t Purple Playgrou
 nd 5/12, 5/19, 5/26: Join us at the new Children&#039;s Room at TCPL!
URL:https://www.tcplibrary.org/event/rhyme-time-kid-spot-playground-5027
END:VEVENT
END:VCALENDAR
