BEGIN:VCALENDAR
VERSION:2.0
PRODID:-//Library Market//iCal Export//EN
BEGIN:VEVENT
SUMMARY:Homeschool Hangout at The Enrichment Collaborative
UID:5026
DTSTAMP:20260420T095400Z
DTSTART:20260506T173000Z
DTEND:20260506T183000Z
LOCATION:Green River Lake Visitors Center, 179 Park Office Rd, Campbellsvi
 lle, KY 42718, United States
ROOM: Homeschool Hangout at The Enrichment Collaborative
DESCRIPTION:Homeschool Hangout ventures out to the Green River Lake Visito
 r Center on Wednesday, May 6th! Join us for a tour of the center and a sh
 ort walk on the nearby trails. Let&#039;s take advantage of the beautiful 
 weather and the incredible scenery out at the Lake! See you at 1:30 on May
  6th!
URL:https://www.tcplibrary.org/event/homeschool-hangout-enrichment-collabo
 rative-5026
END:VEVENT
END:VCALENDAR
