BEGIN:VCALENDAR
VERSION:2.0
PRODID:-//Library Market//iCal Export//EN
BEGIN:VEVENT
SUMMARY:TCPL Grand Opening
UID:5024
DTSTAMP:20260420T120900Z
DTSTART:20260511T130000Z
DTEND:20260511T180000Z
LOCATION:725 Martin Luther King Jr Blvd, Campbellsville, KY 42718, United 
 States
ROOM: TCPL Grand Opening
DESCRIPTION:You’re invited to Taylor County Public Library’s Grand Ope
 ning. Celebrate the unveiling of an additional 8,000 sq. feet!
URL:https://www.tcplibrary.org/event/tcpl-grand-opening-5024
END:VEVENT
END:VCALENDAR
